BEGIN:VCALENDAR
VERSION:2.0
PRODID:-//FBC Fairburn - ECPv5.6.0//NONSGML v1.0//EN
CALSCALE:GREGORIAN
METHOD:PUBLISH
X-WR-CALNAME:FBC Fairburn
X-ORIGINAL-URL:https://fbcfairburn.com
X-WR-CALDESC:Events for FBC Fairburn
BEGIN:VTIMEZONE
TZID:America/New_York
BEGIN:DAYLIGHT
TZOFFSETFROM:-0500
TZOFFSETTO:-0400
TZNAME:EDT
DTSTART:20160313T070000
END:DAYLIGHT
BEGIN:STANDARD
TZOFFSETFROM:-0400
TZOFFSETTO:-0500
TZNAME:EST
DTSTART:20161106T060000
END:STANDARD
END:VTIMEZONE
BEGIN:VEVENT
DTSTART;TZID=America/New_York:20160113T180000
DTEND;TZID=America/New_York:20160113T190000
DTSTAMP:20260425T163510
CREATED:20151228T211740Z
LAST-MODIFIED:20151228T211740Z
UID:605-1452708000-1452711600@fbcfairburn.com
SUMMARY:Wednesday Activities Resume
DESCRIPTION:All of our Wednesday evening activities will resume 1/13. Life groups\, students\, children\, preschool\, and choir will meet.
URL:https://fbcfairburn.com/event/wednesday-evening-activities-resume/
CATEGORIES:Children,Preschool,Students
END:VEVENT
END:VCALENDAR