BEGIN:VCALENDAR
VERSION:2.0
PRODID:-//FBC Fairburn - ECPv5.6.0//NONSGML v1.0//EN
CALSCALE:GREGORIAN
METHOD:PUBLISH
X-WR-CALNAME:FBC Fairburn
X-ORIGINAL-URL:https://fbcfairburn.com
X-WR-CALDESC:Events for FBC Fairburn
BEGIN:VTIMEZONE
TZID:America/New_York
BEGIN:DAYLIGHT
TZOFFSETFROM:-0500
TZOFFSETTO:-0400
TZNAME:EDT
DTSTART:20150308T070000
END:DAYLIGHT
BEGIN:STANDARD
TZOFFSETFROM:-0400
TZOFFSETTO:-0500
TZNAME:EST
DTSTART:20151101T060000
END:STANDARD
END:VTIMEZONE
BEGIN:VEVENT
DTSTART;TZID=America/New_York:20151109T183000
DTEND;TZID=America/New_York:20151109T200000
DTSTAMP:20260425T222835
CREATED:20151026T163437Z
LAST-MODIFIED:20151026T173302Z
UID:539-1447093800-1447099200@fbcfairburn.com
SUMMARY:Ladies' Night of Prayer
DESCRIPTION:Join our Womens’ ministry for a time of prayer and encouragement.
URL:https://fbcfairburn.com/event/ladies-night-of-prayer-2/
CATEGORIES:Women
END:VEVENT
END:VCALENDAR