BEGIN:VCALENDAR
VERSION:2.0
PRODID:-//FBC Fairburn - ECPv5.6.0//NONSGML v1.0//EN
CALSCALE:GREGORIAN
METHOD:PUBLISH
X-WR-CALNAME:FBC Fairburn
X-ORIGINAL-URL:https://fbcfairburn.com
X-WR-CALDESC:Events for FBC Fairburn
BEGIN:VTIMEZONE
TZID:America/New_York
BEGIN:DAYLIGHT
TZOFFSETFROM:-0500
TZOFFSETTO:-0400
TZNAME:EDT
DTSTART:20150308T070000
END:DAYLIGHT
BEGIN:STANDARD
TZOFFSETFROM:-0400
TZOFFSETTO:-0500
TZNAME:EST
DTSTART:20151101T060000
END:STANDARD
END:VTIMEZONE
BEGIN:VEVENT
DTSTART;TZID=America/New_York:20151103T080000
DTEND;TZID=America/New_York:20151103T190000
DTSTAMP:20260425T222836
CREATED:20151026T163328Z
LAST-MODIFIED:20151026T163328Z
UID:538-1446537600-1446577200@fbcfairburn.com
SUMMARY:Election Day at FBC Fairburn
DESCRIPTION:We’re hosting a Fairburn polling location. Volunteers will be needed to help throughout the day and minister to our community.
URL:https://fbcfairburn.com/event/election-day-at-fbc-fairburn/
END:VEVENT
END:VCALENDAR